BEGIN:VCALENDAR
VERSION:2.0
PRODID:-//Rick Hanson, PhD - ECPv6.15.20//NONSGML v1.0//EN
CALSCALE:GREGORIAN
METHOD:PUBLISH
X-ORIGINAL-URL:https://rickhanson.com
X-WR-CALDESC:Events for Rick Hanson, PhD
REFRESH-INTERVAL;VALUE=DURATION:PT1H
X-Robots-Tag:noindex
X-PUBLISHED-TTL:PT1H
BEGIN:VTIMEZONE
TZID:America/Los_Angeles
BEGIN:DAYLIGHT
TZOFFSETFROM:-0800
TZOFFSETTO:-0700
TZNAME:PDT
DTSTART:20250309T100000
END:DAYLIGHT
BEGIN:STANDARD
TZOFFSETFROM:-0700
TZOFFSETTO:-0800
TZNAME:PST
DTSTART:20251102T090000
END:STANDARD
BEGIN:DAYLIGHT
TZOFFSETFROM:-0800
TZOFFSETTO:-0700
TZNAME:PDT
DTSTART:20260308T100000
END:DAYLIGHT
BEGIN:STANDARD
TZOFFSETFROM:-0700
TZOFFSETTO:-0800
TZNAME:PST
DTSTART:20261101T090000
END:STANDARD
BEGIN:DAYLIGHT
TZOFFSETFROM:-0800
TZOFFSETTO:-0700
TZNAME:PDT
DTSTART:20270314T100000
END:DAYLIGHT
BEGIN:STANDARD
TZOFFSETFROM:-0700
TZOFFSETTO:-0800
TZNAME:PST
DTSTART:20271107T090000
END:STANDARD
END:VTIMEZONE
BEGIN:VEVENT
DTSTART;TZID=America/Los_Angeles:20260218T180000
DTEND;TZID=America/Los_Angeles:20260218T193000
DTSTAMP:20260424T115515
CREATED:20260209T162300Z
LAST-MODIFIED:20260218T045219Z
UID:10001437-1771437600-1771443000@rickhanson.com
SUMMARY:Wednesday Weekly Meditation and Talk with Stephanie Noble
DESCRIPTION:Much research has shown that meditation is one of the very best ways to cultivate the brain states of self-awareness\, calm and inner peace\, lovingkindness\, mindfulness\, and happiness – as well as strengthen the immune system and nurture other health benefits. \nJoin guest teacher Stephanie Noble for a live-streamed weekly meditation\, talk\, and discussion. Stephanie Noble is the author of Asking In\, Six Empowering Questions Only You Can Answer; Invitation to Insight\, Meditative Poems\, and the soon-to-be-released Into the Hills\, An Inner Adventure Novel exploring the Buddha’s Noble Eightfold Path. On Stephanie’s website\, there are over 600 dharma posts from her decades of sharing her understanding of the dharma. Her guided meditations for reducing anxiety and quickly handling a sudden upset are on Insight Timer. She has served on the board of Buddhist Insight Network since 2019\, connecting Insight teachers and sangha leaders around the US and the world for mutual benefit. \nThese teachings are offered freely\, at no charge. And if you like\, you may wish to participate in the age-old tradition of generosity through making an offering yourself – called “dāna” – to support Stephanie and the Wednesday Meditations. Generosity itself is a beautiful practice that opens and gladdens the heart\, relaxes the contraction of “self\,” and ripples out into the world to touch many people – and perhaps\, eventually\, even oneself.
URL:https://rickhanson.com/event/wednesday-weekly-meditation-and-talk-with-stephanie-noble/
CATEGORIES:Wednesday Meditation
ATTACH;FMTTYPE=image/jpeg:https://rickhanson.com/wp-content/uploads/2026/02/Stephanie-Noble.jpeg
END:VEVENT
END:VCALENDAR