BEGIN:VCALENDAR
VERSION:2.0
PRODID:-//Rick Hanson, PhD - ECPv6.15.20//NONSGML v1.0//EN
CALSCALE:GREGORIAN
METHOD:PUBLISH
X-ORIGINAL-URL:https://rickhanson.com
X-WR-CALDESC:Events for Rick Hanson, PhD
REFRESH-INTERVAL;VALUE=DURATION:PT1H
X-Robots-Tag:noindex
X-PUBLISHED-TTL:PT1H
BEGIN:VTIMEZONE
TZID:America/Los_Angeles
BEGIN:DAYLIGHT
TZOFFSETFROM:-0800
TZOFFSETTO:-0700
TZNAME:PDT
DTSTART:20230312T100000
END:DAYLIGHT
BEGIN:STANDARD
TZOFFSETFROM:-0700
TZOFFSETTO:-0800
TZNAME:PST
DTSTART:20231105T090000
END:STANDARD
BEGIN:DAYLIGHT
TZOFFSETFROM:-0800
TZOFFSETTO:-0700
TZNAME:PDT
DTSTART:20240310T100000
END:DAYLIGHT
BEGIN:STANDARD
TZOFFSETFROM:-0700
TZOFFSETTO:-0800
TZNAME:PST
DTSTART:20241103T090000
END:STANDARD
BEGIN:DAYLIGHT
TZOFFSETFROM:-0800
TZOFFSETTO:-0700
TZNAME:PDT
DTSTART:20250309T100000
END:DAYLIGHT
BEGIN:STANDARD
TZOFFSETFROM:-0700
TZOFFSETTO:-0800
TZNAME:PST
DTSTART:20251102T090000
END:STANDARD
END:VTIMEZONE
BEGIN:VEVENT
DTSTART;VALUE=DATE:20240928
DTEND;VALUE=DATE:20240929
DTSTAMP:20260421T124929
CREATED:20240916T192716Z
LAST-MODIFIED:20240916T192829Z
UID:10000300-1727481600-1727567999@rickhanson.com
SUMMARY:Breaking Out of Rumination 5-Week Course
DESCRIPTION:
URL:https://rickhanson.com/event/breaking-out-of-rumination-5-week-course/
CATEGORIES:Featured
ATTACH;FMTTYPE=image/jpeg:https://rickhanson.com/wp-content/uploads/2024/09/Breaking-Out-Of-Rumination-5-Week-Course.jpg
END:VEVENT
END:VCALENDAR