BEGIN:VCALENDAR
VERSION:2.0
PRODID:-//Rick Hanson, PhD - ECPv6.15.20//NONSGML v1.0//EN
CALSCALE:GREGORIAN
METHOD:PUBLISH
X-WR-CALNAME:Rick Hanson, PhD
X-ORIGINAL-URL:https://rickhanson.com
X-WR-CALDESC:Events for Rick Hanson, PhD
REFRESH-INTERVAL;VALUE=DURATION:PT1H
X-Robots-Tag:noindex
X-PUBLISHED-TTL:PT1H
BEGIN:VTIMEZONE
TZID:America/Los_Angeles
BEGIN:DAYLIGHT
TZOFFSETFROM:-0800
TZOFFSETTO:-0700
TZNAME:PDT
DTSTART:20230312T100000
END:DAYLIGHT
BEGIN:STANDARD
TZOFFSETFROM:-0700
TZOFFSETTO:-0800
TZNAME:PST
DTSTART:20231105T090000
END:STANDARD
BEGIN:DAYLIGHT
TZOFFSETFROM:-0800
TZOFFSETTO:-0700
TZNAME:PDT
DTSTART:20240310T100000
END:DAYLIGHT
BEGIN:STANDARD
TZOFFSETFROM:-0700
TZOFFSETTO:-0800
TZNAME:PST
DTSTART:20241103T090000
END:STANDARD
BEGIN:DAYLIGHT
TZOFFSETFROM:-0800
TZOFFSETTO:-0700
TZNAME:PDT
DTSTART:20250309T100000
END:DAYLIGHT
BEGIN:STANDARD
TZOFFSETFROM:-0700
TZOFFSETTO:-0800
TZNAME:PST
DTSTART:20251102T090000
END:STANDARD
END:VTIMEZONE
BEGIN:VEVENT
DTSTART;TZID=America/Los_Angeles:20240911T120000
DTEND;TZID=America/Los_Angeles:20240911T140000
DTSTAMP:20260421T141903
CREATED:20240904T180053Z
LAST-MODIFIED:20240904T180053Z
UID:10000294-1726056000-1726063200@rickhanson.com
SUMMARY:Rick Hanson + Steven Hayes Conversation: Where Do We Want To Take This?
DESCRIPTION:Exploring the Future of a Process-Based Approach to Human Empowerment\nWith Rick Hanson and Steven C. Hayes
URL:https://rickhanson.com/event/rick-hanson-steven-hayes-conversation-where-do-we-want-to-take-this/
CATEGORIES:Featured
ATTACH;FMTTYPE=image/jpeg:https://rickhanson.com/wp-content/uploads/2024/09/WhereDoWeWantToTakeThist-EventFeatured.jpg
END:VEVENT
END:VCALENDAR