BEGIN:VCALENDAR
VERSION:2.0
PRODID:-//Rick Hanson, PhD - ECPv6.15.20//NONSGML v1.0//EN
CALSCALE:GREGORIAN
METHOD:PUBLISH
X-WR-CALNAME:Rick Hanson, PhD
X-ORIGINAL-URL:https://rickhanson.com
X-WR-CALDESC:Events for Rick Hanson, PhD
REFRESH-INTERVAL;VALUE=DURATION:PT1H
X-Robots-Tag:noindex
X-PUBLISHED-TTL:PT1H
BEGIN:VTIMEZONE
TZID:America/Los_Angeles
BEGIN:DAYLIGHT
TZOFFSETFROM:-0800
TZOFFSETTO:-0700
TZNAME:PDT
DTSTART:20240310T100000
END:DAYLIGHT
BEGIN:STANDARD
TZOFFSETFROM:-0700
TZOFFSETTO:-0800
TZNAME:PST
DTSTART:20241103T090000
END:STANDARD
BEGIN:DAYLIGHT
TZOFFSETFROM:-0800
TZOFFSETTO:-0700
TZNAME:PDT
DTSTART:20250309T100000
END:DAYLIGHT
BEGIN:STANDARD
TZOFFSETFROM:-0700
TZOFFSETTO:-0800
TZNAME:PST
DTSTART:20251102T090000
END:STANDARD
BEGIN:DAYLIGHT
TZOFFSETFROM:-0800
TZOFFSETTO:-0700
TZNAME:PDT
DTSTART:20260308T100000
END:DAYLIGHT
BEGIN:STANDARD
TZOFFSETFROM:-0700
TZOFFSETTO:-0800
TZNAME:PST
DTSTART:20261101T090000
END:STANDARD
END:VTIMEZONE
BEGIN:VEVENT
DTSTART;TZID=America/Los_Angeles:20251015T180000
DTEND;TZID=America/Los_Angeles:20251015T193000
DTSTAMP:20260422T061832
CREATED:20250825T225836Z
LAST-MODIFIED:20250825T230213Z
UID:256167-1760551200-1760556600@rickhanson.com
SUMMARY:Wednesday Weekly Meditation and Talk with Ajahn Nisabho
DESCRIPTION:Much research has shown that meditation is one of the very best ways to cultivate the brain states of self-awareness\, calm and inner peace\, lovingkindness\, mindfulness\, and happiness – as well as strengthen the immune system and nurture other health benefits. \nJoin guest teacher Ajahn Nisabho for a live-streamed weekly meditation\, talk\, and discussion. After finishing college in 2012\, Ajahn Nisabho left his native Washington to go forth as a Buddhist monk in Thailand. He received full ordination the following spring under Ajahn Anan\, a senior disciple of renowned meditation master\, Ajahn Chah\, and spent the following years training in forest monasteries around the world with contemporary masters such as Ajahn Anan\, Ajahn Pasanno\, and Ajahn Jayasaro. In the summer of 2021\, he returned to Seattle to plant the first seeds of Clear Mountain Monastery. Learn more at www.clearmountainmonastery.org. \nThese teachings are offered freely\, at no charge. And if you like\, you may wish to participate in the age-old tradition of generosity through making an offering yourself – called “dāna” – to support Ajahn Nisabho and Rick’s Wednesday Meditations. Generosity itself is a beautiful practice that opens and gladdens the heart\, relaxes the contraction of “self\,” and ripples out into the world to touch many people – and perhaps\, eventually\, even oneself.
URL:https://rickhanson.com/event/wednesday-weekly-meditation-and-talk-with-ajahn-nisabho/
CATEGORIES:Wednesday Meditation
ATTACH;FMTTYPE=image/jpeg:https://rickhanson.com/wp-content/uploads/2025/08/Aj_Nisabho.jpg
END:VEVENT
END:VCALENDAR